BEGIN:VCALENDAR
PRODID:\"-//Events Calendar//iCal4j 1.0//EN
VERSION:2.0
CALSCALE:GREGORIAN
BEGIN:VEVENT
DTSTAMP:20260424T084005Z
DTSTART:20260428T193000
DTEND:20260428T230000
SUMMARY:Tribute to Joni Mitchell | Pierre Bertrand (cond)\, Cosima Schmid
  (voc\, p)\, Vanessa Lemoine (voc)\, Sara Guenau (fl)\, Laia López (fl)\
 , Tibor Pernarcic (cl)\, Angel Cuyar (cl)\, Linda Scharnagl (bcl)\, Leon
 ie Tripps (vn)\, Pippa Sieppala (vn)\, Mira Szokody (vn)\, Jenny Armor (
 vn)\, Iñes Biremont (vla)\, Tiffany Butt (p)\, Isaak Peyer (g)\, Ryuji U
 chida (db)\, Henrik Scholtz (dr)
LOCATION:Jazzcampus Performance Stage
DESCRIPTION:\n\nCompositions of Joni Mitchell arranged and performed by t
 he students of the Jazz and Classical Institutes. \n\n \n\nArrangements 
 by Cosima Schmid\, Isaak Peyer\, Ryuji Uchida and Tiffany Butt. Coached 
 by Pierre Bertrand.
UID:20260424T084005Z-uidGen@apps56.mironet.ch
END:VEVENT
END:VCALENDAR
